BEGIN:VCALENDAR
VERSION:2.0
PRODID:-//eventon.com NONSGML v1.0//EN
CALSCALE:GREGORIAN
METHOD:PUBLISH
BEGIN:VEVENT
UID:69e913af87012
DTSTAMP:20260422T193007
DTSTART:20260404T090000Z
DTEND:20260405T160000Z
TZID:Europe/London
LOCATION:
SUMMARY:Easter Living History Weekend at Eden Camp!
DESCRIPTION: Easter Living History Weekend at Eden Camp | WWII Re-enactment in Yorkshire 📅 Event Details Dates: Easter WeekendTimes: 10:00am – 5:00pmLocation: Eden Camp Modern History Museum\,  Malton\,  North Yorkshire 🕰️ Step Back into Wartime Britain This Easter Experience an immersive WWII Living History Weekend at Eden Camp Modern History Museum\, [..]\nhttps://edencamp.co.uk/whats-on/easter-holiday-living-history-weekend/
URL:https://edencamp.co.uk/whats-on/easter-holiday-living-history-weekend/
END:VEVENT
END:VCALENDAR